BEGIN:VCALENDAR
VERSION:2.0
PRODID:-//GO Ministries - ECPv6.15.20//NONSGML v1.0//EN
CALSCALE:GREGORIAN
METHOD:PUBLISH
X-ORIGINAL-URL:https://gomin.org
X-WR-CALDESC:Events for GO Ministries
REFRESH-INTERVAL;VALUE=DURATION:PT1H
X-Robots-Tag:noindex
X-PUBLISHED-TTL:PT1H
BEGIN:VTIMEZONE
TZID:UTC
BEGIN:STANDARD
TZOFFSETFROM:+0000
TZOFFSETTO:+0000
TZNAME:UTC
DTSTART:20210101T000000
END:STANDARD
END:VTIMEZONE
BEGIN:VEVENT
DTSTART;VALUE=DATE:20220727
DTEND;VALUE=DATE:20220728
DTSTAMP:20260420T113450
CREATED:20220602T133223Z
LAST-MODIFIED:20220707T184218Z
UID:721-1658880000-1658966399@gomin.org
SUMMARY:True North Golf Retreat
DESCRIPTION:[vc_row type=”in_container” full_screen_row_position=”middle” column_margin=”default” column_direction=”default” column_direction_tablet=”default” column_direction_phone=”default” scene_position=”center” text_color=”dark” text_align=”left” row_border_radius=”none” row_border_radius_applies=”bg” overflow=”visible” overlay_strength=”0.3″ gradient_direction=”left_to_right” shape_divider_position=”bottom” bg_image_animation=”none”][vc_column column_padding=”no-extra-padding” column_padding_tablet=”inherit” column_padding_phone=”inherit” column_padding_position=”all” column_element_spacing=”default” background_color_opacity=”1″ background_hover_color_opacity=”1″ column_shadow=”none” column_border_radius=”none” column_link_target=”_self” column_position=”default” gradient_direction=”left_to_right” overlay_strength=”0.3″ width=”1/1″ tablet_width_inherit=”default” tablet_text_alignment=”default” phone_text_alignment=”default” animation_type=”default” bg_image_animation=”none” border_type=”simple” column_border_width=”none” column_border_style=”solid”][vc_column_text]Join us in Harbor Springs\, Michigan for three days of golf at Bar Harbor and True North golf clubs\, benefitting GO Ministries![/vc_column_text][nectar_btn size=”jumbo” button_style=”regular” button_color_2=”Extra-Color-3″ solid_text_color_override=”#ffffff” icon_family=”none” text=”Register Now” url=”https://one.bidpal.net/truenorth22/welcome”][/vc_column][/vc_row]
URL:https://gomin.org/event/truenorth22/
LOCATION:Harbor Springs\, 2500 True N Dr\, Harbor Springs\, MI\, 49740\, United States
ATTACH;FMTTYPE=image/jpeg:https://gomin.org/wp-content/uploads/2022/06/true_north_golf_club_cover_picture.jpeg
END:VEVENT
END:VCALENDAR